BEGIN:VCALENDAR
VERSION:2.0
PRODID:-//Fuel Sports Grill - ECPv6.15.20//NONSGML v1.0//EN
CALSCALE:GREGORIAN
METHOD:PUBLISH
X-ORIGINAL-URL:https://www.fuelseattle.com
X-WR-CALDESC:Events for Fuel Sports Grill
REFRESH-INTERVAL;VALUE=DURATION:PT1H
X-Robots-Tag:noindex
X-PUBLISHED-TTL:PT1H
BEGIN:VTIMEZONE
TZID:America/Los_Angeles
BEGIN:DAYLIGHT
TZOFFSETFROM:-0800
TZOFFSETTO:-0700
TZNAME:PDT
DTSTART:20240310T100000
END:DAYLIGHT
BEGIN:STANDARD
TZOFFSETFROM:-0700
TZOFFSETTO:-0800
TZNAME:PST
DTSTART:20241103T090000
END:STANDARD
BEGIN:DAYLIGHT
TZOFFSETFROM:-0800
TZOFFSETTO:-0700
TZNAME:PDT
DTSTART:20250309T100000
END:DAYLIGHT
BEGIN:STANDARD
TZOFFSETFROM:-0700
TZOFFSETTO:-0800
TZNAME:PST
DTSTART:20251102T090000
END:STANDARD
BEGIN:DAYLIGHT
TZOFFSETFROM:-0800
TZOFFSETTO:-0700
TZNAME:PDT
DTSTART:20260308T100000
END:DAYLIGHT
BEGIN:STANDARD
TZOFFSETFROM:-0700
TZOFFSETTO:-0800
TZNAME:PST
DTSTART:20261101T090000
END:STANDARD
END:VTIMEZONE
BEGIN:VEVENT
DTSTART;TZID=America/Los_Angeles:20250312T080000
DTEND;TZID=America/Los_Angeles:20250312T170000
DTSTAMP:20260425T162520
CREATED:20250313T005405Z
LAST-MODIFIED:20250313T005428Z
UID:6978-1741766400-1741798800@www.fuelseattle.com
SUMMARY:Seattle Mariners Opening Day @7PM
DESCRIPTION:🔥SEATTLE! ARE YOU READY TO UNLEASH THE FURY?! 🔥 \nThe wait is OVER! The Seattle Mariners are BACK\, and we’re kicking off the season with a BANG at Fuel Sports Grill on March 27th at 7PM PT! ⚾️🎉 \nJoin us as we PACK the house with the loudest\, most passionate Mariners fans in Seattle! 📣 We’re talking: \n🍻 EPIC Drink Specials ALL GAME LONG! Because cheering deserves a cold one (or three!).\n📺 25 SCREENS of PURE SPORTS MAYHEM! Every pitch\, every play\, every heart-stopping moment\, LIVE!\n🍔 WING THERAPY & GAME-DAY GRUB! Wings that’ll set your mouth on fire (in a good way!)\, burgers that’ll make you weep with joy\, and fries that’ll disappear faster than a stolen base!\n🗣️ YOUR FAVORITE SERVERS! Come say HI and let them fuel your fandom!\n🥳 THE ULTIMATE SPORTS ATMOSPHERE! You’ll feel like you’re right in the dugout! \nPlus\, don’t miss out on Happy Hour\, Monday to Friday\, 3-6PM! \n💥 WHAT’S ON TAP AT FUEL? 💥 \nMLB Extra Innings\, NBA League Pass\, NHL Center Ice\, MLS Season Pass\, NFL Sunday Ticket – We’ve got it ALL!\nHOOP HEADS! Don’t forget\, basketball brilliance is always on at Fuel! 🏀\nCan’t make it? Order online at fuelseattle.com for pick-up! 📲\nGot a squad? Call us! We’ll reserve your table! 📞 \nDon’t be a benchwarmer! Let’s make Fuel the epicenter of Mariners mania! 🥳🔥 \n📍 Fuel Sports Grill – Ballard | Crown Hill Neighborhood \n#SeattleMariners #MarinersOpeningDay #FuelSportsGrill #SeattleSports #MLB #SeattleFood #SportsBar #Ballard #CrownHill #DrinkSpecials #GameDay #LetsGoMariners
URL:https://www.fuelseattle.com/event/seattle-mariners-opening-day-7pm/
LOCATION:Fuel Sports Grill\, 8037 15th Avenue Northwest\, Seattle\, WA
CATEGORIES:Baseball
END:VEVENT
END:VCALENDAR