BEGIN:VCALENDAR
VERSION:2.0
PRODID:-//Fuel Sports Grill - ECPv6.15.20//NONSGML v1.0//EN
CALSCALE:GREGORIAN
METHOD:PUBLISH
X-ORIGINAL-URL:https://www.fuelseattle.com
X-WR-CALDESC:Events for Fuel Sports Grill
REFRESH-INTERVAL;VALUE=DURATION:PT1H
X-Robots-Tag:noindex
X-PUBLISHED-TTL:PT1H
BEGIN:VTIMEZONE
TZID:America/Los_Angeles
BEGIN:DAYLIGHT
TZOFFSETFROM:-0800
TZOFFSETTO:-0700
TZNAME:PDT
DTSTART:20250309T100000
END:DAYLIGHT
BEGIN:STANDARD
TZOFFSETFROM:-0700
TZOFFSETTO:-0800
TZNAME:PST
DTSTART:20251102T090000
END:STANDARD
BEGIN:DAYLIGHT
TZOFFSETFROM:-0800
TZOFFSETTO:-0700
TZNAME:PDT
DTSTART:20260308T100000
END:DAYLIGHT
BEGIN:STANDARD
TZOFFSETFROM:-0700
TZOFFSETTO:-0800
TZNAME:PST
DTSTART:20261101T090000
END:STANDARD
BEGIN:DAYLIGHT
TZOFFSETFROM:-0800
TZOFFSETTO:-0700
TZNAME:PDT
DTSTART:20270314T100000
END:DAYLIGHT
BEGIN:STANDARD
TZOFFSETFROM:-0700
TZOFFSETTO:-0800
TZNAME:PST
DTSTART:20271107T090000
END:STANDARD
END:VTIMEZONE
BEGIN:VEVENT
DTSTART;TZID=America/Los_Angeles:20260330T184000
DTEND;TZID=America/Los_Angeles:20260330T220000
DTSTAMP:20260425T191703
CREATED:20260224T015435Z
LAST-MODIFIED:20260317T191638Z
UID:7802-1774896000-1774908000@www.fuelseattle.com
SUMMARY:Mariners vs Yankees - The Series Opener!
DESCRIPTION:⚾️ PINSTRIPE PAYBACK AT THE PIER! ⚾️\n\nThe rivalry is back\, and we all remember that heart-wrenching 10-inning battle against the Bronx Bombers last season. Now\, the New York Yankees are rolling into T-Mobile Park\, and it’s time to show them how Seattle defends the diamond! 🔱💥\n\nHome Runs officially taste better with a Diskin Cider in hand at Fuel Sports Grill! Your official HomeRun Headquarters for every Mariners game this season!\n\nDON’T MISS A PITCH – SEATTLE VS. NEW YORK (PST):📅 Monday\, March 30 @ 6:40 PM – The Series Opener!📅 Tuesday\, March 31 @ 6:40 PM – Prime Time Rally!\n\nWhy watch at Fuel?👋 The Best Crew: Come say HI to your favorite Fuel server—they’re ready to make your Mariners experience unforgettable. 😎❗ No Ticket? No Problem! Skip the stadium prices and grab a front-row seat at the bar. Grab a seat\, grab a drink\, and enjoy the game with your fellow fans!⚡ Every Game\, Every Time: With MLB Extra Innings\, we’ve got every out and every highlight on our massive screens. ⚾️👉 Big Crew? Don’t get split up! Call ahead and we’ll reserve a spot and a table ready for you and your lineup! 📞\n🍔 Hungry but can’t stay? Order online at fuelseattle.com for pick-up and bring the HomeRun HQ vibes back to your living room! 📲\n\nLet’s pack the house and get loud! 🌊💙\n#FuelSeattle #SeattleMariners #MarinersVsYankees #SeaUsRise #TridentsUp #HomeRunHeadquarters #DiskinCider #SeattleSportsBar #MLBSchedule #FuelSportsGrill #PSTRockTheBallpark
URL:https://www.fuelseattle.com/event/mariners-vs-yankees-11/
LOCATION:Fuel Sports Grill\, 8037 15th Avenue Northwest\, Seattle\, WA
CATEGORIES:Baseball
END:VEVENT
BEGIN:VEVENT
DTSTART;TZID=America/Los_Angeles:20260331T184000
DTEND;TZID=America/Los_Angeles:20260331T220000
DTSTAMP:20260425T191703
CREATED:20260224T015520Z
LAST-MODIFIED:20260326T002116Z
UID:7804-1774982400-1774994400@www.fuelseattle.com
SUMMARY:Mariners vs Yankees - Opening Day!
DESCRIPTION:⚾️ PINSTRIPE PAYBACK AT THE PIER! ⚾️\n\nThe rivalry is back\, and we all remember that heart-wrenching 10-inning battle against the Bronx Bombers last season. Now\, the New York Yankees are rolling into T-Mobile Park\, and it’s time to show them how Seattle defends the diamond! 🔱💥\n\nHome Runs officially taste better with a Diskin Cider in hand at Fuel Sports Grill! Your official HomeRun Headquarters for every Mariners game this season!\n\nDON’T MISS A PITCH – SEATTLE VS. NEW YORK (PST):📅 Monday\, March 30 @ 6:40 PM – The Series Opener!📅 Tuesday\, March 31 @ 6:40 PM – Prime Time Rally!\n\nWhy watch at Fuel?👋 The Best Crew: Come say HI to your favorite Fuel server—they’re ready to make your Mariners experience unforgettable. 😎❗ No Ticket? No Problem! Skip the stadium prices and grab a front-row seat at the bar. Grab a seat\, grab a drink\, and enjoy the game with your fellow fans!⚡ Every Game\, Every Time: With MLB Extra Innings\, we’ve got every out and every highlight on our massive screens. ⚾️👉 Big Crew? Don’t get split up! Call ahead and we’ll reserve a spot and a table ready for you and your lineup! 📞\n🍔 Hungry but can’t stay? Order online at fuelseattle.com for pick-up and bring the HomeRun HQ vibes back to your living room! 📲\n\nLet’s pack the house and get loud! 🌊💙\n#FuelSeattle #SeattleMariners #MarinersVsYankees #SeaUsRise #TridentsUp #HomeRunHeadquarters #DiskinCider #SeattleSportsBar #MLBSchedule #FuelSportsGrill #PSTRockTheBallpark
URL:https://www.fuelseattle.com/event/mariners-vs-yankees-12/
LOCATION:Fuel Sports Grill\, 8037 15th Avenue Northwest\, Seattle\, WA
CATEGORIES:Baseball
END:VEVENT
BEGIN:VEVENT
DTSTART;TZID=America/Los_Angeles:20260403T183800
DTEND;TZID=America/Los_Angeles:20260403T220000
DTSTAMP:20260425T191703
CREATED:20260324T022337Z
LAST-MODIFIED:20260327T165051Z
UID:8024-1775241480-1775253600@www.fuelseattle.com
SUMMARY:Mariners vs Angels Weekend Series Begins!
DESCRIPTION:⚾️ MARINERS FANS: Opening Day was a nail-biter\, but the bounce-back starts NOW! ⚾️\n\nThe M’s 6-4 loss to Cleveland on Thursday was just the warm-up. We’re shaking it off and heading to Anaheim this weekend to take on the Angels\, and Fuel Sports Grill is your official HomeRun Headquarters to catch every pitch live!\n\nDon’t miss a second of the action! Here is the schedule for our first big series of the season:\n📅 Mariners vs. Angels (Away Series)\n\n\n\nFriday\, April 3: 6:38 PM PST (Angels Home Opener!) 🎆\nSaturday\, April 4: 6:38 PM PST ⚾️\nSunday\, April 5: 1:07 PM PST ☀️\n\n\n\n \n🍎 Home Runs Taste Better with a Diskin Cider! 🍎Celebrate every long ball with a crisp\, refreshing Diskin Cider. It’s the ultimate game-day pairing for Seattle fans.\n\n👋 Come say HI to your favorite Fuel server!Our team is ready to make your MLB Extra Innings experience unforgettable. Great vibes\, cold drinks\, and the best service in the city—every single inning. 😎\n\n❗ No ticket? No problem!Skip the stadium prices and enjoy the game on our massive screens with a crowd that bleeds teal and navy. Grab a seat\, grab a drink\, and let’s cheer the boys to a series win!\n\n🍔 Hungry but can’t make it to the grill?Bring the game home! Order your game-day favorites online at fuelseattle.com for quick pick-up and never miss a strikeout. 📲\n\n⚡ Catch every game live with our premium sports packages:⚾ MLB Extra Innings | ⚽ MLS Season Pass | 🏀 NBA League Pass | 🏒 NHL Center Ice | 🏈 NFL Sunday Ticket\n\n👉 Got a big crew?Planning a watch party? Call ahead and we’ll reserve a table so your whole squad has the best seats in the house! 📞\n\n⚡🔥 ⚾ #LetsGoMARINERS #SeaUsRise #FuelSportsGrill #SeattleSportsBar #MarinersBaseball #HomeRunHQ #DiskinCider #PSTGameTimes ⚾🔥⚡
URL:https://www.fuelseattle.com/event/mariners-vs-angels-19/
LOCATION:Fuel Sports Grill\, 8037 15th Avenue Northwest\, Seattle\, WA
CATEGORIES:Baseball
END:VEVENT
BEGIN:VEVENT
DTSTART;TZID=America/Los_Angeles:20260404T183800
DTEND;TZID=America/Los_Angeles:20260404T220000
DTSTAMP:20260425T191703
CREATED:20260324T022200Z
LAST-MODIFIED:20260327T164740Z
UID:8020-1775327880-1775340000@www.fuelseattle.com
SUMMARY:Mariners vs Angels Continues!
DESCRIPTION:⚾️ MARINERS FANS: Opening Day was a nail-biter\, but the bounce-back starts NOW! ⚾️\n\nWe’re shaking it off  with Game 2 still in Anaheim this week to take on the Angels\, and Fuel Sports Grill is your official HomeRun Headquarters to catch every pitch live!\n\nDon’t miss a second of the action! Here is the schedule for our first big series of the season:\n📅 Mariners vs. Angels (Away Series)\n\n\n\nSaturday\, April 4: 6:38 PM PST ⚾️\nSunday\, April 5: 1:07 PM PST ☀️\n\n\n\n \n🍎 Home Runs Taste Better with a Diskin Cider! 🍎Celebrate every long ball with a crisp\, refreshing Diskin Cider. It’s the ultimate game-day pairing for Seattle fans.\n\n👋 Come say HI to your favorite Fuel server!Our team is ready to make your MLB Extra Innings experience unforgettable. Great vibes\, cold drinks\, and the best service in the city—every single inning. 😎\n\n❗ No ticket? No problem!Skip the stadium prices and enjoy the game on our massive screens with a crowd that bleeds teal and navy. Grab a seat\, grab a drink\, and let’s cheer the boys to a series win!\n\n🍔 Hungry but can’t make it to the grill?Bring the game home! Order your game-day favorites online at fuelseattle.com for quick pick-up and never miss a strikeout. 📲\n\n⚡ Catch every game live with our premium sports packages:⚾ MLB Extra Innings | ⚽ MLS Season Pass | 🏀 NBA League Pass | 🏒 NHL Center Ice | 🏈 NFL Sunday Ticket\n\n👉 Got a big crew?Planning a watch party? Call ahead and we’ll reserve a table so your whole squad has the best seats in the house! 📞\n\n⚡🔥 ⚾ #LetsGoMARINERS #SeaUsRise #FuelSportsGrill #SeattleSportsBar #MarinersBaseball #HomeRunHQ #DiskinCider #PSTGameTimes ⚾🔥⚡
URL:https://www.fuelseattle.com/event/mariners-vs-angels-18/
LOCATION:Fuel Sports Grill\, 8037 15th Avenue Northwest\, Seattle\, WA
CATEGORIES:Baseball
END:VEVENT
END:VCALENDAR