BEGIN:VCALENDAR
VERSION:2.0
PRODID:-//Fuel Sports Grill - ECPv6.15.20//NONSGML v1.0//EN
CALSCALE:GREGORIAN
METHOD:PUBLISH
X-ORIGINAL-URL:https://www.fuelseattle.com
X-WR-CALDESC:Events for Fuel Sports Grill
REFRESH-INTERVAL;VALUE=DURATION:PT1H
X-Robots-Tag:noindex
X-PUBLISHED-TTL:PT1H
BEGIN:VTIMEZONE
TZID:America/Los_Angeles
BEGIN:DAYLIGHT
TZOFFSETFROM:-0800
TZOFFSETTO:-0700
TZNAME:PDT
DTSTART:20250309T100000
END:DAYLIGHT
BEGIN:STANDARD
TZOFFSETFROM:-0700
TZOFFSETTO:-0800
TZNAME:PST
DTSTART:20251102T090000
END:STANDARD
BEGIN:DAYLIGHT
TZOFFSETFROM:-0800
TZOFFSETTO:-0700
TZNAME:PDT
DTSTART:20260308T100000
END:DAYLIGHT
BEGIN:STANDARD
TZOFFSETFROM:-0700
TZOFFSETTO:-0800
TZNAME:PST
DTSTART:20261101T090000
END:STANDARD
BEGIN:DAYLIGHT
TZOFFSETFROM:-0800
TZOFFSETTO:-0700
TZNAME:PDT
DTSTART:20270314T100000
END:DAYLIGHT
BEGIN:STANDARD
TZOFFSETFROM:-0700
TZOFFSETTO:-0800
TZNAME:PST
DTSTART:20271107T090000
END:STANDARD
END:VTIMEZONE
BEGIN:VEVENT
DTSTART;TZID=America/Los_Angeles:20260102T180000
DTEND;TZID=America/Los_Angeles:20260102T210000
DTSTAMP:20260420T014926
CREATED:20251209T014139Z
LAST-MODIFIED:20251231T190047Z
UID:7369-1767376800-1767387600@www.fuelseattle.com
SUMMARY:🏀 THE RIVALRY IS REBORN! GONZAGA vs. SEATTLE U 🏀
DESCRIPTION:🏀 THE RIVALRY IS REBORN! GONZAGA vs. SEATTLE U 🏀\nSeattle\, the wait is officially over! For the first time in over 40 years\, the Gonzaga Bulldogs and Seattle U Redhawks are facing off as WCC conference rivals—and there is no better place to catch the action than Fuel Sports Grill!\nWhether you’re rocking the Navy and White or the Red and Teal\, we’re the ultimate destination for college basketball fans in Seattle.\n📅 MARK YOUR CALENDARS:\n\nFriday\, January 2nd @ 6:00 PM – The Redhawks head to Spokane to take on the #7 Bulldogs.\nSaturday\, January 17th @ 7:00 PM – The rematch at Climate Pledge Arena (Just steps away from us!).\n\n🔥 WHY WATCH AT FUEL?\n\nThe Best View: Dozens of HD screens with full sound so you don’t miss a single three-pointer or slam dunk.\nGame Day Grub: Chow down on our famous wings\, signature burgers\, and loaded nachos.\nDrafts & Crafts: We’ve got a massive selection of local craft beers and game-day drink specials to keep the energy high.\nPre-Game Headquarters: Heading to Climate Pledge on the 17th? Stop by for the best pre-game atmosphere in the city before you walk to the arena!\n\nDon’t get stuck on the sidelines. Grab your crew\, wear your colors\, and join us for the biggest West Coast Conference showdown of the season!\n📍 Fuel Sports GrillLocated in the heart of Seattle—your home for Gonzaga basketball and Seattle U athletics.\nView Our Menu & Reserve a Table!\n#Gonzaga #SeattleU #WCC #CollegeBasketball #FuelSportsGrill #SeattleSportsBar #GonzagaBulldogs #SeattleURedhawks #GameDay #SpokaneToSeattle #ClimatePledgeArena #SupportLocal\n 
URL:https://www.fuelseattle.com/event/gonzaga-vs-seattle/
LOCATION:Fuel Sports Grill\, 8037 15th Avenue Northwest\, Seattle\, WA
CATEGORIES:Basketball
END:VEVENT
BEGIN:VEVENT
DTSTART;TZID=America/Los_Angeles:20260104T180000
DTEND;TZID=America/Los_Angeles:20260104T210000
DTSTAMP:20260420T014926
CREATED:20251114T231224Z
LAST-MODIFIED:20260101T032144Z
UID:7337-1767549600-1767560400@www.fuelseattle.com
SUMMARY:No. 7 Gonzaga Bulldogs are taking on the LMU Lions
DESCRIPTION:Hey Seattle! The No. 7 Gonzaga Bulldogs are taking on the LMU Lions this Sunday\, and we’ve got the best seats in the house! 🏀🔥\n\n\n \n\n\nHead down to Fuel Sports Grill to catch all the high-stakes WCC action as the Zags look to continue their dominant series run. The men’s basketball game tips off at 6:00 PM PST on Sunday\, January 4\, 2026.\n\n\n \n\n\nWe’ll have the game on all our big screens\, so you won’t miss a single dunk\, three-pointer\, or defensive stop.\n\n\n \n\n\nMake sure you come hungry and thirsty! We’re serving up delicious food and drink specials all night long.\n\n\n \n\n\nIce Cold Beer: Enjoy our wide selection of local and national brews\, perfect for washing down the excitement.\n\n\n \n\n\nGame Day Grub: Dive into classic sports grill favorites from wings to burgers and more.\n\n\n \n\n\nGreat Atmosphere: The energy will be electric as we cheer for the Bulldogs!\n\n\n \n\n\nGrab your friends and join us at Fuel Sports Grill located at 8037 15th Ave NW\, Seattle\, WA for the ultimate viewing experience.\n\n\n#GoZags #GonzagaBasketball #LMULions #CollegeBasketball #WCC #SeattleSports #SportsBar #FuelSportsGrill #GameDay #SeattleNW
URL:https://www.fuelseattle.com/event/gonzaga-vs-lmu/
LOCATION:Fuel Sports Grill\, 8037 15th Avenue Northwest\, Seattle\, WA
CATEGORIES:Basketball
END:VEVENT
BEGIN:VEVENT
DTSTART;TZID=America/Los_Angeles:20260108T170000
DTEND;TZID=America/Los_Angeles:20260108T200000
DTSTAMP:20260420T014926
CREATED:20251209T014945Z
LAST-MODIFIED:20260106T023100Z
UID:7373-1767891600-1767902400@www.fuelseattle.com
SUMMARY:Gonzaga Bulldogs vs Santa Clara Broncos
DESCRIPTION:Fuel Sports Grill is the place to be for the highly anticipated men’s college basketball game between the Gonzaga Bulldogs and the Santa Clara Broncos!\n\nJoin us this Thursday\, January 8\, 2026\, for tip-off at 8:30 PM PST. We’ll have the game on all our big screens\, so you won’t miss a single dunk\, assist\, or buzzer-beater. The last time these two played at the McCarthey Athletic Center it was an absolute thriller with Santa Clara pulling off a 103-99 upset\, so expect some serious action!\n\n📅 When: Thursday\, Jan 8\, 2026 | 8:30 PM PST Tip-off📍 Where: Fuel Sports Grill📺 Why: Big screens\, great food\, and electric NCAAB atmosphere!\n\nWe’ll be serving up our famous game-day grub and ice-cold drinks to keep you fueled while you cheer on your favorite team. Get here early to grab the best seat in the house and soak in the pre-game hype!\n\nTag your crew\, share this post\, and let’s pack the house! 🍻🍔\n#FuelSportsGrill #GonzagaBulldogs #SantaClaraBroncos #CollegeBasketball #NCAAM #GameDay #WCC #BasketballNight
URL:https://www.fuelseattle.com/event/gonzaga-vs-santa-clara/
LOCATION:Fuel Sports Grill\, 8037 15th Avenue Northwest\, Seattle\, WA
CATEGORIES:Basketball
END:VEVENT
BEGIN:VEVENT
DTSTART;TZID=America/Los_Angeles:20260115T190000
DTEND;TZID=America/Los_Angeles:20260115T220000
DTSTAMP:20260420T014926
CREATED:20251209T015350Z
LAST-MODIFIED:20260102T023644Z
UID:7375-1768503600-1768514400@www.fuelseattle.com
SUMMARY:Watch Gonzaga vs Washington State in Crown Hill | Fuel Sports Grill Seattle
DESCRIPTION:Hey sports fans! 🏀🔥\nThe Pacific Northwest rivalry is heating up again! Get ready for another thrilling showdown as Gonzaga takes on Washington State on Thursday\, January 15\, 2026!\n\nThis is more than just a game; it’s a battle for regional bragging rights! The game is on the road for the Zags at Beasley Coliseum in Pullman\, but we’re bringing all the action to you right here in Seattle at \nFuel Sports Grill! We will be showing the game live with the sound up!\n\n\nYou need the best seat in the house to catch all the action\, and that’s right here at  \nFuel Sports Grill\n! 🍔🍻 We have 25 TVs and a big screen on our outdoor patio deck\, so you won’t miss a single play! \n\nWe’re turning up the volume and firing up the grills for this epic matchup. Join us for:\n\n🔥 Ice-Cold Beers on Tap: The perfect pint for every crucial play.\n🍔 Game Day Grub: Dive into our famous burgers\, wings\, and loaded nachos. We even offer Friday night wing specials!\n🍹 Happy Hour Deals: Get here early from 3 PM to 6 PM for great deals on select food and drink items!\n🎉 Electric Atmosphere: Experience the energy of a packed house cheering for their team!\n\nTag your game-day crew and let us know who you’re rooting for in the comments! 👇 Seating fills up fast\, so call ahead to reserve your spot today!\n\n📍 Location: \nFuel Sports Grill\n⏰ Tip-off: 7:00 PM PST (Happy Hour starts at 3 PM!) \n\n#GonzagaVsWSU #FuelSportsGrill #PNWRivalry #CollegeBasketball #GameDay #GoZags #GoCougs #SportsBar #SeattleEats #BestWingsInTown
URL:https://www.fuelseattle.com/event/gonzaga-vs-washington-state/
LOCATION:Fuel Sports Grill\, 8037 15th Avenue Northwest\, Seattle\, WA
CATEGORIES:Basketball
END:VEVENT
BEGIN:VEVENT
DTSTART;TZID=America/Los_Angeles:20260121T180000
DTEND;TZID=America/Los_Angeles:20260121T220000
DTSTAMP:20260420T014926
CREATED:20251209T015727Z
LAST-MODIFIED:20260108T005119Z
UID:7380-1769018400-1769032800@www.fuelseattle.com
SUMMARY:Watch Gonzaga vs Pepperdine in Crown Hill | Fuel Sports Grill Seattle
DESCRIPTION:Get ready\, Seattle sports fans! The court is heating up\, and we’ve got the perfect spot for you to catch all the high-stakes action between Gonzaga vs. Pepperdine! 🏀🔥\n\nThe game tips off at 6:00 PM PST on Wednesday\, January 21\, 2026! Don’t miss a second of the excitement! ⏰\n\nForget the ticket hustle! At Fuel Sports Grill\, we bring the stadium excitement right to you. With our premium sports packages\, you’ll catch every dunk\, three-pointer\, and fast break live on our big screens.\n\nWhat’s on the menu for game night? We’re serving up ice-cold Diskin Ciders – because let’s face it\, a clutch 3-pointer tastes better with a Diskin Cider in hand! 🍺 Pair it with one of our famous burgers or a round of wings. 🍔🍗\n\n👋 Your favorite Fuel servers are here and ready to make your Gonzaga vs Pepperdine experience truly unforgettable. 😎 They’ll keep the drinks flowing and the good vibes going!\n\nBringing the whole crew? We love that! 👉 Call ahead and we’ll reserve a prime spot and table just for you and your group. No waiting\, just winning! 📞\n\nCan’t make it down to the grill that night? No problem! Bring the game home with you. 🏠 Order online at fuelseattle.com for easy pick-up! 📲\n\nJoin your fellow Seattle sports enthusiasts and get loud with us at Fuel Sports Grill – the ultimate spot for Gonzaga basketball and all your favorite games! Let’s go Zags! 🌊\n#FuelSportsGrill #SeattleSports #GonzagaBasketball #PepperdineWaves #GoZags #CollegeHoops #GameDaySeattle #DiskinCider #SportsBarSeattle #NBA #MLSSeasonPass #NFLSundayTicket #SeattleEats
URL:https://www.fuelseattle.com/event/gonzaga-vs-pepperdine-2/
LOCATION:Fuel Sports Grill\, 8037 15th Avenue Northwest\, Seattle\, WA
CATEGORIES:Basketball
END:VEVENT
BEGIN:VEVENT
DTSTART;TZID=America/Los_Angeles:20260124T170000
DTEND;TZID=America/Los_Angeles:20260124T200000
DTSTAMP:20260420T014926
CREATED:20251209T015938Z
LAST-MODIFIED:20260114T015616Z
UID:7382-1769274000-1769284800@www.fuelseattle.com
SUMMARY:Watch Gonzaga Bulldogs vs San Francisco Athletics in Crown Hill | Fuel Sports Grill Seattle
DESCRIPTION:Get ready\, Seattle! It’s game time and we’ve got the ultimate setup for every major league game! 🏈🏀⚾🏒⚽\n\n\n \n\n\n👋 Come say HI to your favorite Fuel server\, they’re ready to make your sports-watching experience unforgettable. 😎\n\n\n \n\n\n❗ No ticket? No problem! Grab a seat\, grab a drink\, and enjoy the game with fellow fans! We have premium sports packages like MLB Extra Innings\, NBA League Pass\, NHL Center Ice\, MLS Season Pass\, and NFL Sunday Ticket to catch every live game and watch your favorite teams dominate the field or court! ⚡\n\n\n \n\n\n🍔 Hungry? Don’t let the action pass you by! Order online at fuelseattle.com for speedy pick-up and bring the game home with you! 📲\n\n\n \n\n\n🔥 Game Day Special: 3 Pointers Taste Better with a Diskin Cider from Fuel Sports Grill! 🔥\n\n\n \n\n\nGather your crew and make it a party! The men’s basketball game between Gonzaga and San Francisco is coming up on Saturday\, January 24\, 2026\, at 5:00 PM PST! You can catch the action here! \n\n\n \n\n\n👉 Got a big group? Call Ahead and we’ll reserve a spot and a table just for you! 📞\n\n\n \n\n\nDon’t just watch the game\, experience it at Fuel Sports Grill! See you soon\, sports fans! 🍻\n\n\n#FuelSportsGrill #SeattleSports #SeattleBars #GameDay #NFLSundayTicket #NBALeaguePass #MLBExtraInnings #NHLCenterIce #MLSSeasonPass #DiskinCider #EatLocalSeattle #SeattleEats #SportsBar #WatchParty
URL:https://www.fuelseattle.com/event/gonzaga-vs-san-francisco/
LOCATION:Fuel Sports Grill\, 8037 15th Avenue Northwest\, Seattle\, WA
CATEGORIES:Basketball
END:VEVENT
BEGIN:VEVENT
DTSTART;TZID=America/Los_Angeles:20260126T080000
DTEND;TZID=America/Los_Angeles:20260126T170000
DTSTAMP:20260420T014926
CREATED:20260127T035349Z
LAST-MODIFIED:20260127T035349Z
UID:7634-1769414400-1769446800@www.fuelseattle.com
SUMMARY:Watch SEATTLE U vs. WSU in Crown Hill | Fuel Sports Grill Seattle
DESCRIPTION:🏀 SEATTLE U vs. WSU: THE REMATCH IS HERE! 🏀\n\n\n \n\n\nReady for some local hoops heat? After the Redhawks took the W back in December\, the WSU Cougars are looking for redemption this Wednesday\, January 28\, 2026\, at 6:30 PM! ⚡️\n\n\n \n\n\nDon’t have a ticket to Pullman? No problem! Fuel Sports Grill is your ultimate Seattle headquarters for college basketball. Whether you’re rooting for Seattle U to sweep or cheering for a Cougar comeback\, the atmosphere here is unmatched!\n\n\n \n\n\n🍎 3 Pointers Taste Better with a Diskin Cider from Fuel Sports Grill. Grab a crisp pint and settle in! Every seat is the best seat in the house with our 25+ HD screens!\n\n\n \n\n\n👋 Come say HI to your favorite Fuel server – they’re ready to make your Gameday experience unforgettable. 😎\n\n\n \n\n\n🍔 Hungry? Can’t make it? If you’re hosting the watch party at home\, bring the flavor with you! Order our famous wings and burgers online at fuelseattle.com for quick pick-up. 📲\n\n\n \n\n\n⚡ Catch every game live with our premium sports packages:\n\n\n \n\n\n⚾ MLB Extra Innings | 🏀 NBA League Pass | 🏒 NHL Center Ice | ⚽ MLS Season Pass | 🏈 NFL Sunday Ticket\n\n\n \n\n\n👉 Got a big crew? Don’t leave it to chance! Call us at (206) 402-6107 and we’ll reserve a spot and table ready for you and your group! 📞\n\n\n \n\n\nSee you in Crown Hill! Let’s go! 🦅🐾\n\n\n#FuelSportsGrill #SeattleU #WSU #Redhawks #GoCougs #SeattleSportsBar #CollegeBasketball #CrownHill #SeattleEats #WatchParty #DiskinCider
URL:https://www.fuelseattle.com/event/watch-seattle-u-vs-wsu-in-crown-hill-fuel-sports-grill-seattle/
LOCATION:Fuel Sports Grill\, 8037 15th Avenue Northwest\, Seattle\, WA
CATEGORIES:Basketball
END:VEVENT
BEGIN:VEVENT
DTSTART;TZID=America/Los_Angeles:20260131T193000
DTEND;TZID=America/Los_Angeles:20260131T223000
DTSTAMP:20260420T014926
CREATED:20251209T020437Z
LAST-MODIFIED:20260117T021013Z
UID:7384-1769887800-1769898600@www.fuelseattle.com
SUMMARY:Watch Gonzaga vs Saint Mary's in Crown Hill | Fuel Sports Grill Seattle
DESCRIPTION:🔥🏀 RIVALRY RENEWED: Gonzaga vs. Saint Mary’s at Fuel Sports Grill! 🏀🔥\n\nThe biggest rivalry game in the WCC is here\, and there’s only one place to catch all the high-stakes action: Fuel Sports Grill!\n\nJoin us THIS SATURDAY\, January 31st\, as the Bulldogs take on the Gaels in a showdown that always delivers excitement!\n⏰ Tip-off is at 7:30 PM! ⏰\n\n👋 Come say HI to your favorite Fuel server – they’re ready to make your Game Day experience unforgettable. 😎\n❗ No ticket to the arena? No problem! Grab a great seat\, grab a cold Diskin Cider\, and enjoy the intensity with your fellow CBB fans! A 3-pointer just tastes better with one! 🍻\n🍔 Hungry? Get your hands on the best wings and burgers in Seattle!\n⚡ Catch every game live with our premium sports packages: MLB Extra Innings ⚾ NBA League Pass 🏀 NHL Center Ice 🏒 MLS Season Pass ⚽ NFL Sunday Ticket 🏈\n👉 Got a big crew? Call Ahead and we’ll reserve a spot and table ready for you and your group! 📞\n\nCan’t make it? Order online at fuelseattle.com for pick-up and bring the game home with you! 📲\nLet’s pack the house and cheer on the Zags! See you Saturday night! 📣\n#FuelSportsGrill #GonzagaBasketball #GoZags #SaintMarysBasketball #WCCBasketball #SeattleSportsBar #CollegeBasketball #WatchParty #DiskinCider #SeattleEats #GameDay #GonzagaVsSaintMarys #SeattleWA
URL:https://www.fuelseattle.com/event/gonzaga-vs-saint-marys/
LOCATION:Fuel Sports Grill\, 8037 15th Avenue Northwest\, Seattle\, WA
CATEGORIES:Basketball
END:VEVENT
END:VCALENDAR