BEGIN:VCALENDAR
VERSION:2.0
PRODID:-//Fuel Sports Grill - ECPv6.15.20//NONSGML v1.0//EN
CALSCALE:GREGORIAN
METHOD:PUBLISH
X-ORIGINAL-URL:https://www.fuelseattle.com
X-WR-CALDESC:Events for Fuel Sports Grill
REFRESH-INTERVAL;VALUE=DURATION:PT1H
X-Robots-Tag:noindex
X-PUBLISHED-TTL:PT1H
BEGIN:VTIMEZONE
TZID:America/Los_Angeles
BEGIN:DAYLIGHT
TZOFFSETFROM:-0800
TZOFFSETTO:-0700
TZNAME:PDT
DTSTART:20250309T100000
END:DAYLIGHT
BEGIN:STANDARD
TZOFFSETFROM:-0700
TZOFFSETTO:-0800
TZNAME:PST
DTSTART:20251102T090000
END:STANDARD
BEGIN:DAYLIGHT
TZOFFSETFROM:-0800
TZOFFSETTO:-0700
TZNAME:PDT
DTSTART:20260308T100000
END:DAYLIGHT
BEGIN:STANDARD
TZOFFSETFROM:-0700
TZOFFSETTO:-0800
TZNAME:PST
DTSTART:20261101T090000
END:STANDARD
BEGIN:DAYLIGHT
TZOFFSETFROM:-0800
TZOFFSETTO:-0700
TZNAME:PDT
DTSTART:20270314T100000
END:DAYLIGHT
BEGIN:STANDARD
TZOFFSETFROM:-0700
TZOFFSETTO:-0800
TZNAME:PST
DTSTART:20271107T090000
END:STANDARD
END:VTIMEZONE
BEGIN:VEVENT
DTSTART;VALUE=DATE:20260327
DTEND;VALUE=DATE:20260328
DTSTAMP:20260420T015311
CREATED:20260216T215957Z
LAST-MODIFIED:20260324T005925Z
UID:7704-1774569600-1774655999@www.fuelseattle.com
SUMMARY:MARCH MADNESS SWEET 16 Concludes!
DESCRIPTION:🔥 THE ELITE EIGHT IS CALLING! SWEET 16 FRIDAY AT FUEL! 🔥\n\nThe final spots in the Elite Eight are on the line this Friday night! We’re serving up the best wings\, coldest drafts\, and loudest atmosphere for the most intense matchups of the tournament.\n.\nWhether you’re riding with the favorites or hunting for another upset\, Fuel Sports Grill is your Sweet 16 headquarters. Catch every basket on our wall-to-wall screens!\n\nFriday\, March 27th Schedule (All Times PST):\n\n4:10 PM: (5) St. John’s (NY) vs. (1) Duke\n4:35 PM: (4) Alabama vs. (1) Michigan\n6:45 PM: (3) Michigan State vs. (2) UConn\n7:10 PM: (6) Tennessee vs. (2) Iowa State\n\n🏀 Finish the Week Right! Head down early for a table and let’s see who punches their ticket to the next round! 🍺🍔\n#Sweet16 #MarchMadness #FuelSportsGrill #EliteEightHunt #CollegeBasketball #GameDay
URL:https://www.fuelseattle.com/event/march-madness-6/
LOCATION:Fuel Sports Grill\, 8037 15th Avenue Northwest\, Seattle\, WA
CATEGORIES:Basketball
END:VEVENT
END:VCALENDAR