BEGIN:VCALENDAR
VERSION:2.0
PRODID:-//Fuel Sports Grill - ECPv6.15.20//NONSGML v1.0//EN
CALSCALE:GREGORIAN
METHOD:PUBLISH
X-ORIGINAL-URL:https://www.fuelseattle.com
X-WR-CALDESC:Events for Fuel Sports Grill
REFRESH-INTERVAL;VALUE=DURATION:PT1H
X-Robots-Tag:noindex
X-PUBLISHED-TTL:PT1H
BEGIN:VTIMEZONE
TZID:America/Los_Angeles
BEGIN:DAYLIGHT
TZOFFSETFROM:-0800
TZOFFSETTO:-0700
TZNAME:PDT
DTSTART:20250309T100000
END:DAYLIGHT
BEGIN:STANDARD
TZOFFSETFROM:-0700
TZOFFSETTO:-0800
TZNAME:PST
DTSTART:20251102T090000
END:STANDARD
BEGIN:DAYLIGHT
TZOFFSETFROM:-0800
TZOFFSETTO:-0700
TZNAME:PDT
DTSTART:20260308T100000
END:DAYLIGHT
BEGIN:STANDARD
TZOFFSETFROM:-0700
TZOFFSETTO:-0800
TZNAME:PST
DTSTART:20261101T090000
END:STANDARD
BEGIN:DAYLIGHT
TZOFFSETFROM:-0800
TZOFFSETTO:-0700
TZNAME:PDT
DTSTART:20270314T100000
END:DAYLIGHT
BEGIN:STANDARD
TZOFFSETFROM:-0700
TZOFFSETTO:-0800
TZNAME:PST
DTSTART:20271107T090000
END:STANDARD
END:VTIMEZONE
BEGIN:VEVENT
DTSTART;TZID=America/Los_Angeles:20260324T160000
DTEND;TZID=America/Los_Angeles:20260324T190000
DTSTAMP:20260425T123344
CREATED:20260216T224401Z
LAST-MODIFIED:20260311T021026Z
UID:7740-1774368000-1774378800@www.fuelseattle.com
SUMMARY:Kraken vs Panthers
DESCRIPTION:Hey Kraken Faithful! 🦑🏒\n\nThe playoff race is heating up! The boys are ready to prove that the deep sea runs hotter than the Sunshine State. We know one thing for sure: Goals Taste Better with a crisp Diskin Cider in your hand! 🍏🍻\n\nFuel Sports Grill in beautiful Crown Hill is your official Seattle Kraken Affiliate headquarters to catch every hit.\n\nMark your calendars for this massive showdown:\n📅 TUESDAY\, March 24th @ 4:00 PM – We’re taking the fight to Florida! Join us for an early Happy Hour puck drop as we hunt for those 2 points on the road.\n\n👋 Come say HI to your favorite Fuel server\, they’re ready to make your Game Day experience unforgettable. 😎\n\n❗ No ticket? No problem! Grab a seat\, grab a drink\, and enjoy the game on our massive screens with your fellow fans. With NHL Center Ice\, we’ve got the best view in the city\n\n🍔 Hungry? From legendary burgers to game-day wings\, our kitchen is firing on all cylinders. Can’t make it to the grill? Order online at fuelseattle.com for pick-up and bring the Fuel flavor home! 📲\n\n👉 Got a big crew? Don’t leave your seating to chance! Call Ahead and we’ll reserve a table so it’s ready for you and your group. 📞\nLet’s get loud\, Crown Hill! See you at the puck drop. ⚡🔥\n\n#LetsGoKraken #SeaKraken #FuelSportsGrill #CrownHill #SeattleSportsBar #KrakenHockey #DiskinCider #SeattleEats #NHLPuckDrop #CrownHillSeattle
URL:https://www.fuelseattle.com/event/kraken-vs-panthers-4/
LOCATION:Fuel Sports Grill\, 8037 15th Avenue Northwest\, Seattle\, WA
CATEGORIES:Hockey
END:VEVENT
BEGIN:VEVENT
DTSTART;TZID=America/Los_Angeles:20260326T160000
DTEND;TZID=America/Los_Angeles:20260326T190000
DTSTAMP:20260425T123344
CREATED:20260216T224448Z
LAST-MODIFIED:20260314T015249Z
UID:7742-1774540800-1774551600@www.fuelseattle.com
SUMMARY:Kraken vs Lightning
DESCRIPTION:CAN WE STRIKE THE LIGHTNING? ⚡️🏒\n\nAfter that heartbreaker at Climate Pledge earlier this month\, our Seattle Kraken are heading to Florida for a massive rematch against Tampa Bay! The boys are looking to snap that streak and prove the Deep is deeper than the swamp. 🦑🌊\n\nWe’re dropping the puck at 4:00 PM PST this Thursday\, March 26th! 🕓\n\nThere is NO better place to witness the comeback than right here in beautiful Crown Hill at Fuel Sports Grill\, your official Kraken Affiliate Bar! 🍻\n\nRemember: Goals Taste Better with a Diskin Cider from Fuel! 🍎🥂 Whether it’s a Beniers breakaway or a big save by Joey D\, celebrate every siren with the crispest pour in Seattle.\n\n👋 Come say HI to your favorite Fuel server\, they’re ready to make your Gameday experience unforgettable. 😎\n\n❗ No ticket to Tampa? No problem! Grab a seat\, grab a cold drink\, and soak up the electric atmosphere with your fellow Kraken fans! ⚡🏒\n\n🍔 Hungry but can’t stay? Don’t miss a second of the action. Order your game-day favorites online at fuelseattle.com for easy pick-up and bring the Fuel flavor home with you! 📲\n\n⚡ Catch every game live with our premium sports packages:🏒 NHL Center Ice⚾ MLB Extra Innings🏀 NBA League Pass⚽ MLS Season Pass🏈 NFL Sunday Ticket\n\n👉 Got a big crew? Don’t leave your seating to chance! Call ahead and we’ll reserve a spot and a table ready for you and your group! 📞\nLet’s show the league how Crown Hill brings the noise! 🌊🔥\n#LetsGoKraken #SeattleKraken #CrownHill #FuelSportsGrill #SeaKraken #NHLHockey #SeattleSportsBar #DiskinCider #KrakenFans #SeattleEats\n\nMar 8\, 2022; Toronto\, Ontario\, CAN; Toronto Maple Leafs forward Michael Bunting (58) checks Seattle Kraken forward Mason Appleton (22) during the third period at Scotiabank Arena. Mandatory Credit: John E. Sokolowski-USA TODAY Sports
URL:https://www.fuelseattle.com/event/kraken-vs-lightning-4/
LOCATION:Fuel Sports Grill\, 8037 15th Avenue Northwest\, Seattle\, WA
CATEGORIES:Hockey
END:VEVENT
BEGIN:VEVENT
DTSTART;TZID=America/Los_Angeles:20260328T143000
DTEND;TZID=America/Los_Angeles:20260328T173000
DTSTAMP:20260425T123344
CREATED:20260216T224533Z
LAST-MODIFIED:20260320T212325Z
UID:7744-1774708200-1774719000@www.fuelseattle.com
SUMMARY:Kraken vs Sabres
DESCRIPTION:Hey Kraken Faithful! 🦑🏒\n\nRemember that tough 3-1 battle against the Sabres back in December? We haven’t forgotten that empty-netter\, and we know the boys in Deep Sea Blue are looking for payback! This Saturday\, March 28th\, the Kraken are heading into Buffalo with a chip on their shoulder\, and there is no better place to watch the revenge tour than right here at Fuel Sports Grill\, your official Seattle Kraken Affiliate Bar in beautiful Crown Hill! ⚡🔥\n\nThe Sabres might be sitting high in the Atlantic\, but we play better when the pressure is on. We’re cranking up the volume\, dropping the puck\, and turning Fuel into the loudest cheering section outside of Climate Pledge Arena!\n\n🍎 Goals Taste Better with a Diskin Cider!Whether we’re killing a penalty or celebrating a Joey Daccord glove save\, a crisp Diskin Cider is the perfect teammate for the game.\n\n👋 Come say HI to your favorite Fuel server\, they’re ready to make your Game Day experience unforgettable. 😎\n\n❗ No ticket? No problem! Skip the flight to Buffalo and grab a front-row seat at the bar. Experience every hit and every goal on our massive screens with your fellow hockey fans!\n\n🍔 Hungry? Can’t make it? If you’re watching from the couch\, don’t settle for boring snacks. Order your game-day feast online at fuelseattle.com for easy pick-up and bring the Fuel flavor home with you! 📲\n\n👉 Got a big crew? Don’t gamble on seating. Call Ahead and we’ll reserve a table so your whole squad can catch the action together! 📞\nLet’s show Buffalo how Seattle supports their team. See you at Fuel!\n#SeattleKraken #SeaKraken #FuelSportsGrill #CrownHill #SeattleSportsBar #NHLCenterIce #KrakenVsSabres #DiskinCider #SeattleEats #HockeyNightInSeattle
URL:https://www.fuelseattle.com/event/kraken-vs-sabres-5/
LOCATION:Fuel Sports Grill\, 8037 15th Avenue Northwest\, Seattle\, WA
CATEGORIES:Hockey
END:VEVENT
BEGIN:VEVENT
DTSTART;TZID=America/Los_Angeles:20260331T180000
DTEND;TZID=America/Los_Angeles:20260331T210000
DTSTAMP:20260425T123344
CREATED:20260216T224609Z
LAST-MODIFIED:20260320T215429Z
UID:7746-1774980000-1774990800@www.fuelseattle.com
SUMMARY:Kraken vs Oilers
DESCRIPTION:The battle for the Pacific is heating up\, and we’re ready to settle the score! 🏒🔥\n\nAfter a wild season series\, our Seattle Kraken are heading into Edmonton for a massive showdown against the Oilers on Tuesday\, March 31st! We still remember that gritty 3-2 win back in October\, and it’s time to bring that same “Deep Sea” energy to Crown Hill to help our boys even the score.\n\nDon’t watch the rebound from your couch\, come down to Fuel Sports Grill\, your official Seattle Kraken Affiliate Bar\, and catch every hit\, goal\, and glove save on our massive screens!\n\n⏰ Puck Drops at 6:00 PM PST! ⏰\n\n🍻 Goals Taste Better with a Diskin Cider! 🍏\nWe’re popping tops on your favorite Diskin Cider flavors all game long! Whether you’re cheering for a Beniers breakaway or a big McCann blast\, there’s no better way to celebrate a Kraken power play.\n\n👋 Come say HI to your favorite Fuel server\, they’re ready to make your Gameday experience unforgettable. 😎\n\n❗ No ticket? No problem! Skip the flight to Alberta and grab a seat here. The atmosphere is electric\, the beer is cold\, and you’ll be surrounded by the loudest Kraken fans in Seattle!\n🍔 Hungry? Can’t make it? If you’re stuck at the office or hosting a watch party at home\, bring the Grill to you! Order our legendary wings and burgers online at fuelseattle.com for easy pick-up. 📲\n⚡ We’ve got the full Season Pass! From NHL Center Ice 🏒 to NBA League Pass 🏀\, we never miss a minute of the action.\n\n👉 Got a big crew? Don’t leave your seating to chance! Call Ahead and we’ll reserve a spot and table ready for you and your group! 📞\n\nLet’s turn Crown Hill deep sea blue! 🌊🏒\n⚡🔥 #LetsGoKraken #SeattleKraken #FuelSportsGrill #CrownHill #SeattleSportsBar #KrakenVsOilers #DiskinCider #NHL #SeaTown #ReleaseTheKraken #SeattleEats #PNWSports 🔥⚡
URL:https://www.fuelseattle.com/event/kraken-vs-oilers-10/
LOCATION:Fuel Sports Grill\, 8037 15th Avenue Northwest\, Seattle\, WA
CATEGORIES:Hockey
END:VEVENT
BEGIN:VEVENT
DTSTART;TZID=America/Los_Angeles:20260416T190000
DTEND;TZID=America/Los_Angeles:20260416T210000
DTSTAMP:20260425T123344
CREATED:20260227T173548Z
LAST-MODIFIED:20260227T173548Z
UID:7838-1776366000-1776373200@www.fuelseattle.com
SUMMARY:Watch Seattle Kraken Versus Colorado Avalanche in Crown Hill | Fuel Sports Grill Seattle
DESCRIPTION:Hey Kraken fans! 🦑🏒 \nThe boys are taking on the Avalanche\, and there’s no better place to witness the action than right here in Crown Hill! As your official Seattle Kraken Affiliate Bar\, Fuel Sports Grill is bringing the deep-sea heat to every puck drop. \nWe’re firing up the big screens with NHL Center Ice for both upcoming matchup: \nThursday\, April 16\, 2026: Kraken at Avalanche at 7:30 PM PST 🕢 \nWhy Fuel is your Game Day HQ:\n🍏 Goals Taste Better with a crisp\, refreshing Diskin Cider in hand.\n👋 Meet the Team: Come say HI to your favorite Fuel server\, they’re ready to make your Kraken experience unforgettable!\n🎟️ No Ticket? No Problem! Skip the commute and the stadium prices. Grab a seat\, grab a drink\, and enjoy the game with your fellow fans!\n🍔 Fuel Your Fandom: Our legendary burgers and wings are ready for puck drop. \nGot a big crew? Don’t leave your seating to chance! Call ahead at (206) 402-3859 and we’ll reserve a table so it’s ready for you and your group the moment you walk in. 📞 \n📲 Can’t make it in? Don’t miss a second of the play-by-play. Order your game-day feast online at fuelseattle.com for quick pick-up and bring the Fuel flavor home! \nLet’s show the league how Seattle brings the thunder! ⚡🔥 \n#SeattleKraken #FuelSportsGrill #CrownHill #SeattleSportsBar #SeaKraken #KrakenvsAvalanche #NHL #SeattleEats #DiskinCider #GameDay #SeattleNightlife
URL:https://www.fuelseattle.com/event/watch-seattle-kraken-versus-colorado-avalanche-in-crown-hill-fuel-sports-grill-seattle/
LOCATION:Fuel Sports Grill\, 8037 15th Avenue Northwest\, Seattle\, WA
CATEGORIES:Hockey
END:VEVENT
END:VCALENDAR