BEGIN:VCALENDAR
VERSION:2.0
PRODID:-//Fuel Sports Grill - ECPv6.15.20//NONSGML v1.0//EN
CALSCALE:GREGORIAN
METHOD:PUBLISH
X-ORIGINAL-URL:https://www.fuelseattle.com
X-WR-CALDESC:Events for Fuel Sports Grill
REFRESH-INTERVAL;VALUE=DURATION:PT1H
X-Robots-Tag:noindex
X-PUBLISHED-TTL:PT1H
BEGIN:VTIMEZONE
TZID:America/Los_Angeles
BEGIN:DAYLIGHT
TZOFFSETFROM:-0800
TZOFFSETTO:-0700
TZNAME:PDT
DTSTART:20250309T100000
END:DAYLIGHT
BEGIN:STANDARD
TZOFFSETFROM:-0700
TZOFFSETTO:-0800
TZNAME:PST
DTSTART:20251102T090000
END:STANDARD
BEGIN:DAYLIGHT
TZOFFSETFROM:-0800
TZOFFSETTO:-0700
TZNAME:PDT
DTSTART:20260308T100000
END:DAYLIGHT
BEGIN:STANDARD
TZOFFSETFROM:-0700
TZOFFSETTO:-0800
TZNAME:PST
DTSTART:20261101T090000
END:STANDARD
BEGIN:DAYLIGHT
TZOFFSETFROM:-0800
TZOFFSETTO:-0700
TZNAME:PDT
DTSTART:20270314T100000
END:DAYLIGHT
BEGIN:STANDARD
TZOFFSETFROM:-0700
TZOFFSETTO:-0800
TZNAME:PST
DTSTART:20271107T090000
END:STANDARD
END:VTIMEZONE
BEGIN:VEVENT
DTSTART;TZID=America/Los_Angeles:20260221T200000
DTEND;TZID=America/Los_Angeles:20260222T120000
DTSTAMP:20260420T014952
CREATED:20260221T224034Z
LAST-MODIFIED:20260221T224112Z
UID:7777-1771704000-1771761600@www.fuelseattle.com
SUMMARY:WATCH THE WINTER OLYMPICS FINALE AT FUEL SPORTS GRILL! 🏒🔥
DESCRIPTION:WATCH THE FINALE AT FUEL SPORTS GRILL! 🏒🔥\n\nDon’t spend the final day of the 2026 Winter Games on your couch\, join us at Fuel Sports Grill for the ultimate Closing Ceremony watch party! We’ve got the biggest screens\, the coldest drafts\, and the best seats in the house for every gold medal moment.\nSUNDAY\, FEBRUARY 22 – THE FINAL COUNTDOWN (All times PT):\n\nEARLY MORNING ACTION: Fuel up with breakfast and catch the final gold medal showdowns!\n11:30 AM – THE CLOSING CEREMONY LIVE: Watch the “Beauty in Action” spectacular live from the historic Verona Arena! Experience the Parade of Athletes and the handoff to the French Alps 2030 on our massive HD walls.\n9:00 PM – PRIMETIME ENCORE: Missed the live broadcast? We’re replaying the entire ceremony tonight!\n\nBring your team\, wear your colors\, and let’s send off the 2026 Winter Games in style!\nFuel Sports Grill | Where the Fans Live.Call ahead for table reservations!
URL:https://www.fuelseattle.com/event/catch-the-olympics-finale-at-fuel-sports-grill-%f0%9f%8f%92%f0%9f%94%a5/
LOCATION:Fuel Sports Grill\, 8037 15th Avenue Northwest\, Seattle\, WA
CATEGORIES:Olympics
END:VEVENT
END:VCALENDAR