BEGIN:VCALENDAR
VERSION:2.0
PRODID:-//Fuel Sports Grill - ECPv6.15.20//NONSGML v1.0//EN
CALSCALE:GREGORIAN
METHOD:PUBLISH
X-ORIGINAL-URL:https://www.fuelseattle.com
X-WR-CALDESC:Events for Fuel Sports Grill
REFRESH-INTERVAL;VALUE=DURATION:PT1H
X-Robots-Tag:noindex
X-PUBLISHED-TTL:PT1H
BEGIN:VTIMEZONE
TZID:America/Los_Angeles
BEGIN:DAYLIGHT
TZOFFSETFROM:-0800
TZOFFSETTO:-0700
TZNAME:PDT
DTSTART:20250309T100000
END:DAYLIGHT
BEGIN:STANDARD
TZOFFSETFROM:-0700
TZOFFSETTO:-0800
TZNAME:PST
DTSTART:20251102T090000
END:STANDARD
BEGIN:DAYLIGHT
TZOFFSETFROM:-0800
TZOFFSETTO:-0700
TZNAME:PDT
DTSTART:20260308T100000
END:DAYLIGHT
BEGIN:STANDARD
TZOFFSETFROM:-0700
TZOFFSETTO:-0800
TZNAME:PST
DTSTART:20261101T090000
END:STANDARD
BEGIN:DAYLIGHT
TZOFFSETFROM:-0800
TZOFFSETTO:-0700
TZNAME:PDT
DTSTART:20270314T100000
END:DAYLIGHT
BEGIN:STANDARD
TZOFFSETFROM:-0700
TZOFFSETTO:-0800
TZNAME:PST
DTSTART:20271107T090000
END:STANDARD
END:VTIMEZONE
BEGIN:VEVENT
DTSTART;VALUE=DATE:20260502
DTEND;VALUE=DATE:20260503
DTSTAMP:20260422T113813
CREATED:20260422T045354Z
LAST-MODIFIED:20260422T045354Z
UID:8121-1777680000-1777766399@www.fuelseattle.com
SUMMARY:NHL Playoffs
DESCRIPTION:
URL:https://www.fuelseattle.com/event/nhl-playoffs-46/
LOCATION:WA
END:VEVENT
BEGIN:VEVENT
DTSTART;VALUE=DATE:20260502
DTEND;VALUE=DATE:20260503
DTSTAMP:20260422T113813
CREATED:20260422T045922Z
LAST-MODIFIED:20260422T045922Z
UID:8141-1777680000-1777766399@www.fuelseattle.com
SUMMARY:NBA Playoffs
DESCRIPTION:
URL:https://www.fuelseattle.com/event/nba-playoffs-68/
LOCATION:WA
END:VEVENT
BEGIN:VEVENT
DTSTART;VALUE=DATE:20260503
DTEND;VALUE=DATE:20260504
DTSTAMP:20260422T113813
CREATED:20260422T045428Z
LAST-MODIFIED:20260422T045428Z
UID:8123-1777766400-1777852799@www.fuelseattle.com
SUMMARY:NHL Playoffs
DESCRIPTION:
URL:https://www.fuelseattle.com/event/nhl-playoffs-47/
LOCATION:WA
END:VEVENT
BEGIN:VEVENT
DTSTART;VALUE=DATE:20260503
DTEND;VALUE=DATE:20260504
DTSTAMP:20260422T113813
CREATED:20260422T045953Z
LAST-MODIFIED:20260422T045953Z
UID:8143-1777766400-1777852799@www.fuelseattle.com
SUMMARY:NBA Playoffs
DESCRIPTION:
URL:https://www.fuelseattle.com/event/nba-playoffs-69/
LOCATION:WA
END:VEVENT
END:VCALENDAR