BEGIN:VCALENDAR
VERSION:2.0
PRODID:-//Fuel Sports Grill - ECPv6.15.20//NONSGML v1.0//EN
CALSCALE:GREGORIAN
METHOD:PUBLISH
X-WR-CALNAME:Fuel Sports Grill
X-ORIGINAL-URL:https://www.fuelseattle.com
X-WR-CALDESC:Events for Fuel Sports Grill
REFRESH-INTERVAL;VALUE=DURATION:PT1H
X-Robots-Tag:noindex
X-PUBLISHED-TTL:PT1H
BEGIN:VTIMEZONE
TZID:America/Los_Angeles
BEGIN:DAYLIGHT
TZOFFSETFROM:-0800
TZOFFSETTO:-0700
TZNAME:PDT
DTSTART:20250309T100000
END:DAYLIGHT
BEGIN:STANDARD
TZOFFSETFROM:-0700
TZOFFSETTO:-0800
TZNAME:PST
DTSTART:20251102T090000
END:STANDARD
BEGIN:DAYLIGHT
TZOFFSETFROM:-0800
TZOFFSETTO:-0700
TZNAME:PDT
DTSTART:20260308T100000
END:DAYLIGHT
BEGIN:STANDARD
TZOFFSETFROM:-0700
TZOFFSETTO:-0800
TZNAME:PST
DTSTART:20261101T090000
END:STANDARD
BEGIN:DAYLIGHT
TZOFFSETFROM:-0800
TZOFFSETTO:-0700
TZNAME:PDT
DTSTART:20270314T100000
END:DAYLIGHT
BEGIN:STANDARD
TZOFFSETFROM:-0700
TZOFFSETTO:-0800
TZNAME:PST
DTSTART:20271107T090000
END:STANDARD
END:VTIMEZONE
BEGIN:VEVENT
DTSTART;TZID=America/Los_Angeles:20260425T111500
DTEND;TZID=America/Los_Angeles:20260425T150000
DTSTAMP:20260422T162803
CREATED:20260331T013219Z
LAST-MODIFIED:20260331T013349Z
UID:8072-1777115700-1777129200@www.fuelseattle.com
SUMMARY:Mariners vs Cardinals
DESCRIPTION:
URL:https://www.fuelseattle.com/event/mariners-vs-cardinals-5/
END:VEVENT
BEGIN:VEVENT
DTSTART;TZID=America/Los_Angeles:20260425T193000
DTEND;TZID=America/Los_Angeles:20260425T223000
DTSTAMP:20260422T162803
CREATED:20260414T004703Z
LAST-MODIFIED:20260414T004703Z
UID:8097-1777145400-1777156200@www.fuelseattle.com
SUMMARY:Sounders vs Dallas
DESCRIPTION:
URL:https://www.fuelseattle.com/event/sounders-vs-dallas/
END:VEVENT
BEGIN:VEVENT
DTSTART;VALUE=DATE:20260426
DTEND;VALUE=DATE:20260427
DTSTAMP:20260422T162803
CREATED:20260422T045036Z
LAST-MODIFIED:20260422T045036Z
UID:8109-1777161600-1777247999@www.fuelseattle.com
SUMMARY:NHL Playoffs
DESCRIPTION:
URL:https://www.fuelseattle.com/event/nhl-playoffs-40/
END:VEVENT
BEGIN:VEVENT
DTSTART;VALUE=DATE:20260426
DTEND;VALUE=DATE:20260427
DTSTAMP:20260422T162803
CREATED:20260422T045605Z
LAST-MODIFIED:20260422T045605Z
UID:8129-1777161600-1777247999@www.fuelseattle.com
SUMMARY:NBA Playoffs
DESCRIPTION:
URL:https://www.fuelseattle.com/event/nba-playoffs-62/
END:VEVENT
BEGIN:VEVENT
DTSTART;TZID=America/Los_Angeles:20260426T111500
DTEND;TZID=America/Los_Angeles:20260426T150000
DTSTAMP:20260422T162803
CREATED:20260331T013312Z
LAST-MODIFIED:20260331T013312Z
UID:8074-1777202100-1777215600@www.fuelseattle.com
SUMMARY:Mariners vs Cardinals
DESCRIPTION:
URL:https://www.fuelseattle.com/event/mariners-vs-cardinals-6/
END:VEVENT
BEGIN:VEVENT
DTSTART;VALUE=DATE:20260427
DTEND;VALUE=DATE:20260428
DTSTAMP:20260422T162803
CREATED:20260422T045105Z
LAST-MODIFIED:20260422T045105Z
UID:8111-1777248000-1777334399@www.fuelseattle.com
SUMMARY:NHL Playoffs
DESCRIPTION:
URL:https://www.fuelseattle.com/event/nhl-playoffs-41/
END:VEVENT
BEGIN:VEVENT
DTSTART;VALUE=DATE:20260427
DTEND;VALUE=DATE:20260428
DTSTAMP:20260422T162803
CREATED:20260422T045632Z
LAST-MODIFIED:20260422T045632Z
UID:8131-1777248000-1777334399@www.fuelseattle.com
SUMMARY:NBA Playoffs
DESCRIPTION:
URL:https://www.fuelseattle.com/event/nba-playoffs-63/
END:VEVENT
BEGIN:VEVENT
DTSTART;TZID=America/Los_Angeles:20260427T164000
DTEND;TZID=America/Los_Angeles:20260427T193000
DTSTAMP:20260422T162803
CREATED:20260331T013507Z
LAST-MODIFIED:20260331T013507Z
UID:8077-1777308000-1777318200@www.fuelseattle.com
SUMMARY:Mariners vs Twins
DESCRIPTION:
URL:https://www.fuelseattle.com/event/mariners-vs-twins-7/
END:VEVENT
BEGIN:VEVENT
DTSTART;VALUE=DATE:20260428
DTEND;VALUE=DATE:20260429
DTSTAMP:20260422T162803
CREATED:20260422T045135Z
LAST-MODIFIED:20260422T045135Z
UID:8113-1777334400-1777420799@www.fuelseattle.com
SUMMARY:NHL Playoffs
DESCRIPTION:
URL:https://www.fuelseattle.com/event/nhl-playoffs-42/
END:VEVENT
BEGIN:VEVENT
DTSTART;VALUE=DATE:20260428
DTEND;VALUE=DATE:20260429
DTSTAMP:20260422T162803
CREATED:20260422T045655Z
LAST-MODIFIED:20260422T045655Z
UID:8133-1777334400-1777420799@www.fuelseattle.com
SUMMARY:NBA Playoffs
DESCRIPTION:
URL:https://www.fuelseattle.com/event/nba-playoffs-64/
END:VEVENT
BEGIN:VEVENT
DTSTART;TZID=America/Los_Angeles:20260428T164000
DTEND;TZID=America/Los_Angeles:20260428T200000
DTSTAMP:20260422T162803
CREATED:20260331T013559Z
LAST-MODIFIED:20260331T013559Z
UID:8079-1777394400-1777406400@www.fuelseattle.com
SUMMARY:Mariners vs Twins
DESCRIPTION:
URL:https://www.fuelseattle.com/event/mariners-vs-twins-8/
END:VEVENT
BEGIN:VEVENT
DTSTART;VALUE=DATE:20260429
DTEND;VALUE=DATE:20260430
DTSTAMP:20260422T162803
CREATED:20260422T045209Z
LAST-MODIFIED:20260422T045209Z
UID:8115-1777420800-1777507199@www.fuelseattle.com
SUMMARY:NHL Playoffs
DESCRIPTION:
URL:https://www.fuelseattle.com/event/nhl-playoffs-43/
END:VEVENT
BEGIN:VEVENT
DTSTART;VALUE=DATE:20260429
DTEND;VALUE=DATE:20260430
DTSTAMP:20260422T162803
CREATED:20260422T045728Z
LAST-MODIFIED:20260422T045728Z
UID:8135-1777420800-1777507199@www.fuelseattle.com
SUMMARY:NBA Playoffs
DESCRIPTION:
URL:https://www.fuelseattle.com/event/nba-playoffs-65/
END:VEVENT
BEGIN:VEVENT
DTSTART;TZID=America/Los_Angeles:20260429T224000
DTEND;TZID=America/Los_Angeles:20260429T224000
DTSTAMP:20260422T162803
CREATED:20260331T013655Z
LAST-MODIFIED:20260331T013655Z
UID:8081-1777502400-1777502400@www.fuelseattle.com
SUMMARY:Mariners vs Twins
DESCRIPTION:Fuel opens at 3pm
URL:https://www.fuelseattle.com/event/mariners-vs-twins-9/
END:VEVENT
BEGIN:VEVENT
DTSTART;VALUE=DATE:20260430
DTEND;VALUE=DATE:20260501
DTSTAMP:20260422T162803
CREATED:20260422T045234Z
LAST-MODIFIED:20260422T045234Z
UID:8117-1777507200-1777593599@www.fuelseattle.com
SUMMARY:NHL Playoffs
DESCRIPTION:
URL:https://www.fuelseattle.com/event/nhl-playoffs-44/
END:VEVENT
BEGIN:VEVENT
DTSTART;VALUE=DATE:20260430
DTEND;VALUE=DATE:20260501
DTSTAMP:20260422T162803
CREATED:20260422T045803Z
LAST-MODIFIED:20260422T045803Z
UID:8137-1777507200-1777593599@www.fuelseattle.com
SUMMARY:NBA Playoffs
DESCRIPTION:
URL:https://www.fuelseattle.com/event/nba-playoffs-66/
END:VEVENT
BEGIN:VEVENT
DTSTART;VALUE=DATE:20260501
DTEND;VALUE=DATE:20260502
DTSTAMP:20260422T162803
CREATED:20260422T045304Z
LAST-MODIFIED:20260422T045304Z
UID:8119-1777593600-1777679999@www.fuelseattle.com
SUMMARY:NHL Playoffs
DESCRIPTION:
URL:https://www.fuelseattle.com/event/nhl-playoffs-45/
END:VEVENT
BEGIN:VEVENT
DTSTART;VALUE=DATE:20260501
DTEND;VALUE=DATE:20260502
DTSTAMP:20260422T162803
CREATED:20260422T045847Z
LAST-MODIFIED:20260422T045847Z
UID:8139-1777593600-1777679999@www.fuelseattle.com
SUMMARY:NBA Playoffs
DESCRIPTION:
URL:https://www.fuelseattle.com/event/nba-playoffs-67/
END:VEVENT
BEGIN:VEVENT
DTSTART;VALUE=DATE:20260502
DTEND;VALUE=DATE:20260503
DTSTAMP:20260422T162803
CREATED:20260422T045354Z
LAST-MODIFIED:20260422T045354Z
UID:8121-1777680000-1777766399@www.fuelseattle.com
SUMMARY:NHL Playoffs
DESCRIPTION:
URL:https://www.fuelseattle.com/event/nhl-playoffs-46/
END:VEVENT
BEGIN:VEVENT
DTSTART;VALUE=DATE:20260502
DTEND;VALUE=DATE:20260503
DTSTAMP:20260422T162803
CREATED:20260422T045922Z
LAST-MODIFIED:20260422T045922Z
UID:8141-1777680000-1777766399@www.fuelseattle.com
SUMMARY:NBA Playoffs
DESCRIPTION:
URL:https://www.fuelseattle.com/event/nba-playoffs-68/
END:VEVENT
BEGIN:VEVENT
DTSTART;VALUE=DATE:20260503
DTEND;VALUE=DATE:20260504
DTSTAMP:20260422T162803
CREATED:20260422T045428Z
LAST-MODIFIED:20260422T045428Z
UID:8123-1777766400-1777852799@www.fuelseattle.com
SUMMARY:NHL Playoffs
DESCRIPTION:
URL:https://www.fuelseattle.com/event/nhl-playoffs-47/
END:VEVENT
BEGIN:VEVENT
DTSTART;VALUE=DATE:20260503
DTEND;VALUE=DATE:20260504
DTSTAMP:20260422T162803
CREATED:20260422T045953Z
LAST-MODIFIED:20260422T045953Z
UID:8143-1777766400-1777852799@www.fuelseattle.com
SUMMARY:NBA Playoffs
DESCRIPTION:
URL:https://www.fuelseattle.com/event/nba-playoffs-69/
END:VEVENT
END:VCALENDAR