BEGIN:VCALENDAR
VERSION:2.0
PRODID:-//Fuel Sports Grill - ECPv6.15.20//NONSGML v1.0//EN
CALSCALE:GREGORIAN
METHOD:PUBLISH
X-WR-CALNAME:Fuel Sports Grill
X-ORIGINAL-URL:https://www.fuelseattle.com
X-WR-CALDESC:Events for Fuel Sports Grill
REFRESH-INTERVAL;VALUE=DURATION:PT1H
X-Robots-Tag:noindex
X-PUBLISHED-TTL:PT1H
BEGIN:VTIMEZONE
TZID:America/Los_Angeles
BEGIN:DAYLIGHT
TZOFFSETFROM:-0800
TZOFFSETTO:-0700
TZNAME:PDT
DTSTART:20250309T100000
END:DAYLIGHT
BEGIN:STANDARD
TZOFFSETFROM:-0700
TZOFFSETTO:-0800
TZNAME:PST
DTSTART:20251102T090000
END:STANDARD
BEGIN:DAYLIGHT
TZOFFSETFROM:-0800
TZOFFSETTO:-0700
TZNAME:PDT
DTSTART:20260308T100000
END:DAYLIGHT
BEGIN:STANDARD
TZOFFSETFROM:-0700
TZOFFSETTO:-0800
TZNAME:PST
DTSTART:20261101T090000
END:STANDARD
BEGIN:DAYLIGHT
TZOFFSETFROM:-0800
TZOFFSETTO:-0700
TZNAME:PDT
DTSTART:20270314T100000
END:DAYLIGHT
BEGIN:STANDARD
TZOFFSETFROM:-0700
TZOFFSETTO:-0800
TZNAME:PST
DTSTART:20271107T090000
END:STANDARD
END:VTIMEZONE
BEGIN:VEVENT
DTSTART;TZID=America/Los_Angeles:20260425T111500
DTEND;TZID=America/Los_Angeles:20260425T150000
DTSTAMP:20260421T063605
CREATED:20260331T013219Z
LAST-MODIFIED:20260331T013349Z
UID:8072-1777115700-1777129200@www.fuelseattle.com
SUMMARY:Mariners vs Cardinals
DESCRIPTION:
URL:https://www.fuelseattle.com/event/mariners-vs-cardinals-5/
LOCATION:WA
END:VEVENT
BEGIN:VEVENT
DTSTART;TZID=America/Los_Angeles:20260425T193000
DTEND;TZID=America/Los_Angeles:20260425T223000
DTSTAMP:20260421T063605
CREATED:20260414T004703Z
LAST-MODIFIED:20260414T004703Z
UID:8097-1777145400-1777156200@www.fuelseattle.com
SUMMARY:Sounders vs Dallas
DESCRIPTION:
URL:https://www.fuelseattle.com/event/sounders-vs-dallas/
LOCATION:WA
END:VEVENT
BEGIN:VEVENT
DTSTART;TZID=America/Los_Angeles:20260426T111500
DTEND;TZID=America/Los_Angeles:20260426T150000
DTSTAMP:20260421T063605
CREATED:20260331T013312Z
LAST-MODIFIED:20260331T013312Z
UID:8074-1777202100-1777215600@www.fuelseattle.com
SUMMARY:Mariners vs Cardinals
DESCRIPTION:
URL:https://www.fuelseattle.com/event/mariners-vs-cardinals-6/
LOCATION:WA
END:VEVENT
BEGIN:VEVENT
DTSTART;TZID=America/Los_Angeles:20260427T164000
DTEND;TZID=America/Los_Angeles:20260427T193000
DTSTAMP:20260421T063605
CREATED:20260331T013507Z
LAST-MODIFIED:20260331T013507Z
UID:8077-1777308000-1777318200@www.fuelseattle.com
SUMMARY:Mariners vs Twins
DESCRIPTION:
URL:https://www.fuelseattle.com/event/mariners-vs-twins-7/
LOCATION:WA
END:VEVENT
BEGIN:VEVENT
DTSTART;TZID=America/Los_Angeles:20260428T164000
DTEND;TZID=America/Los_Angeles:20260428T200000
DTSTAMP:20260421T063605
CREATED:20260331T013559Z
LAST-MODIFIED:20260331T013559Z
UID:8079-1777394400-1777406400@www.fuelseattle.com
SUMMARY:Mariners vs Twins
DESCRIPTION:
URL:https://www.fuelseattle.com/event/mariners-vs-twins-8/
LOCATION:WA
END:VEVENT
BEGIN:VEVENT
DTSTART;TZID=America/Los_Angeles:20260429T224000
DTEND;TZID=America/Los_Angeles:20260429T224000
DTSTAMP:20260421T063605
CREATED:20260331T013655Z
LAST-MODIFIED:20260331T013655Z
UID:8081-1777502400-1777502400@www.fuelseattle.com
SUMMARY:Mariners vs Twins
DESCRIPTION:Fuel opens at 3pm
URL:https://www.fuelseattle.com/event/mariners-vs-twins-9/
LOCATION:WA
END:VEVENT
END:VCALENDAR